BEGIN:VCALENDAR
VERSION:2.0
PRODID:-//DI Adolf Schmid - ECPv6.15.20//NONSGML v1.0//EN
CALSCALE:GREGORIAN
METHOD:PUBLISH
X-WR-CALNAME:DI Adolf Schmid
X-ORIGINAL-URL:https://www.zwingendorf.at/schmid
X-WR-CALDESC:Veranstaltungen für DI Adolf Schmid
REFRESH-INTERVAL;VALUE=DURATION:PT1H
X-Robots-Tag:noindex
X-PUBLISHED-TTL:PT1H
BEGIN:VTIMEZONE
TZID:Europe/Vienna
BEGIN:DAYLIGHT
TZOFFSETFROM:+0100
TZOFFSETTO:+0200
TZNAME:CEST
DTSTART:20240331T010000
END:DAYLIGHT
BEGIN:STANDARD
TZOFFSETFROM:+0200
TZOFFSETTO:+0100
TZNAME:CET
DTSTART:20241027T010000
END:STANDARD
BEGIN:DAYLIGHT
TZOFFSETFROM:+0100
TZOFFSETTO:+0200
TZNAME:CEST
DTSTART:20250330T010000
END:DAYLIGHT
BEGIN:STANDARD
TZOFFSETFROM:+0200
TZOFFSETTO:+0100
TZNAME:CET
DTSTART:20251026T010000
END:STANDARD
BEGIN:DAYLIGHT
TZOFFSETFROM:+0100
TZOFFSETTO:+0200
TZNAME:CEST
DTSTART:20260329T010000
END:DAYLIGHT
BEGIN:STANDARD
TZOFFSETFROM:+0200
TZOFFSETTO:+0100
TZNAME:CET
DTSTART:20261025T010000
END:STANDARD
END:VTIMEZONE
BEGIN:VEVENT
DTSTART;TZID=Europe/Vienna:20250302T140000
DTEND;TZID=Europe/Vienna:20250302T230000
DTSTAMP:20260422T180805
CREATED:20250222T172535Z
LAST-MODIFIED:20250222T172535Z
UID:1602-1740924000-1740956400@www.zwingendorf.at
SUMMARY:Faschingsumzug Zwingendorf
DESCRIPTION:
URL:https://www.zwingendorf.at/schmid/event/faschingsumzug-zwingendorf/
LOCATION:Feuerwehrhaus Zwingendorf\, Zwingendorf 272\, Zwingendorf\, 2063\, Österreich
END:VEVENT
END:VCALENDAR