BEGIN:VCALENDAR
VERSION:2.0
PRODID:-//DI Adolf Schmid - ECPv6.15.20//NONSGML v1.0//EN
CALSCALE:GREGORIAN
METHOD:PUBLISH
X-ORIGINAL-URL:https://www.zwingendorf.at/schmid
X-WR-CALDESC:Veranstaltungen für DI Adolf Schmid
REFRESH-INTERVAL;VALUE=DURATION:PT1H
X-Robots-Tag:noindex
X-PUBLISHED-TTL:PT1H
BEGIN:VTIMEZONE
TZID:UTC
BEGIN:STANDARD
TZOFFSETFROM:+0000
TZOFFSETTO:+0000
TZNAME:UTC
DTSTART:20230101T000000
END:STANDARD
END:VTIMEZONE
BEGIN:VEVENT
DTSTART;TZID=UTC:20241205T190000
DTEND;TZID=UTC:20241205T220000
DTSTAMP:20260422T213345
CREATED:20241123T095418Z
LAST-MODIFIED:20241123T095418Z
UID:1535-1733425200-1733436000@www.zwingendorf.at
SUMMARY:Red ma MITanaund
DESCRIPTION:
URL:https://www.zwingendorf.at/schmid/event/red-ma-mitanaund-14/
LOCATION:Landgasthaus Holzer\, Hauptstraße 80a\, Großharras\, 2034\, Österreich
ORGANIZER;CN="SP%C3%96 Gro%C3%9Fharras":MAILTO:spoe@grossharras.at
END:VEVENT
BEGIN:VEVENT
DTSTART;TZID=UTC:20241208T140000
DTEND;TZID=UTC:20241208T220000
DTSTAMP:20260422T213345
CREATED:20241123T095108Z
LAST-MODIFIED:20241123T095455Z
UID:1531-1733666400-1733695200@www.zwingendorf.at
SUMMARY:Advent in der Kellergasse Großharras
DESCRIPTION:
URL:https://www.zwingendorf.at/schmid/event/advent-in-der-kellergasse-grossharras/
LOCATION:Kellergasse Großharras\, Großharras 198\, Großharras\, 2034\, Österreich
END:VEVENT
BEGIN:VEVENT
DTSTART;TZID=UTC:20241220T170000
DTEND;TZID=UTC:20241220T220000
DTSTAMP:20260422T213345
CREATED:20241216T201352Z
LAST-MODIFIED:20241216T201352Z
UID:1555-1734714000-1734732000@www.zwingendorf.at
SUMMARY:Adventfenster mit Glühweinstand
DESCRIPTION:
URL:https://www.zwingendorf.at/schmid/event/adventfenster-mit-gluehweinstand/
LOCATION:2063 Zwingendorf 66\, Zwingendorf 66\, Zwingendorf\, 2063\, Österreich
ORGANIZER;CN="Pensionistenverband Ortsgruppe Zwingendorf":MAILTO:adolf.schmid@zwingendorf.at
END:VEVENT
END:VCALENDAR