BEGIN:VCALENDAR
VERSION:2.0
PRODID:-//DI Adolf Schmid - ECPv6.15.20//NONSGML v1.0//EN
CALSCALE:GREGORIAN
METHOD:PUBLISH
X-WR-CALNAME:DI Adolf Schmid
X-ORIGINAL-URL:https://www.zwingendorf.at/schmid
X-WR-CALDESC:Veranstaltungen für DI Adolf Schmid
REFRESH-INTERVAL;VALUE=DURATION:PT1H
X-Robots-Tag:noindex
X-PUBLISHED-TTL:PT1H
BEGIN:VTIMEZONE
TZID:UTC
BEGIN:STANDARD
TZOFFSETFROM:+0000
TZOFFSETTO:+0000
TZNAME:UTC
DTSTART:20240101T000000
END:STANDARD
END:VTIMEZONE
BEGIN:VEVENT
DTSTART;TZID=UTC:20250102T190000
DTEND;TZID=UTC:20250102T220000
DTSTAMP:20260422T195145
CREATED:20241229T164945Z
LAST-MODIFIED:20241229T164945Z
UID:1566-1735844400-1735855200@www.zwingendorf.at
SUMMARY:Red ma MITanaund
DESCRIPTION:
URL:https://www.zwingendorf.at/schmid/event/red-ma-mitanaund-15/
LOCATION:Dorfzentrum Zwingendorf\, Zwingendorf 35\, Zwingendorf\, 2063\, Österreich
ORGANIZER;CN="SP%C3%96 Gro%C3%9Fharras":MAILTO:spoe@grossharras.at
END:VEVENT
END:VCALENDAR